BEGIN:VCALENDAR
VERSION:2.0
PRODID:-//peaceCENTER - ECPv4.6.13//NONSGML v1.0//EN
CALSCALE:GREGORIAN
METHOD:PUBLISH
X-WR-CALNAME:peaceCENTER
X-ORIGINAL-URL:http://www.sanantoniopeace.center
X-WR-CALDESC:Events for peaceCENTER
BEGIN:VEVENT
DTSTART;TZID=America/Chicago:20160628T190000
DTEND;TZID=America/Chicago:20160628T210000
DTSTAMP:20260425T214437
CREATED:20160521T142200Z
LAST-MODIFIED:20160521T142200Z
UID:7000-1467140400-1467147600@www.sanantoniopeace.center
SUMMARY:The Future is Mestiz@: From Samuel Huntington to Virgilio Elizondo to ???
DESCRIPTION:\n\nIn this illustrated lecture\, Dr. Davíd Carrasco will honor the life and work of the Mexican American liberation theologian Virgilio Elizondo by placing his radical vision of cultural\, racial and ethnic mixtures/cruces de caminos in dialogue with other influential thinkers. On the one hand Carrasco will show Elizondo’s critique of ‘clash’ theorists such as  Samuel T. Huntington and Robert Kaplan. On the other hand we will see how Elizondo’s thought and work interfaces with scholar/activists such as the medical anthropologist Arthur Kleinman\, Latina historian Daisy Machado and poet John Phillip Santos. The lecture ends with a Q and A focused on how the new generation of Hispanic/Latin@ scholar/activists will shape our troubled world. \nDr. Davíd Carrasco is the Neil L. Rudenstine Professor of the Study of Latin America at Harvard Divinity School. \nReception to follow lecture. \nParking is available. \n\n\n
URL:http://www.sanantoniopeace.center/event/the-future-is-mestiz-from-samuel-huntington-to-virgilio-elizondo-to/
LOCATION:5700 Blanco Road\, San Antonio\, TX\, 78216\, United States
CATEGORIES:Other
END:VEVENT
END:VCALENDAR