BEGIN:VCALENDAR
VERSION:2.0
PRODID:-//peaceCENTER - ECPv4.6.13//NONSGML v1.0//EN
CALSCALE:GREGORIAN
METHOD:PUBLISH
X-WR-CALNAME:peaceCENTER
X-ORIGINAL-URL:http://www.sanantoniopeace.center
X-WR-CALDESC:Events for peaceCENTER
BEGIN:VEVENT
DTSTART;TZID=America/Chicago:20170125T190000
DTEND;TZID=America/Chicago:20170125T210000
DTSTAMP:20260425T103011
CREATED:20161205T163413Z
LAST-MODIFIED:20161205T163413Z
UID:9242-1485370800-1485378000@www.sanantoniopeace.center
SUMMARY:The Faith of the People in the Art of the San Antonio Missions
DESCRIPTION: \nCatholic Intellectual Tradition Lecture Series featuring The Rev. David Garcia \n“The Faith of the People in the Art of the San Antonio Missions” \nSt. Mary’s University welcomes you to a free\, annual lectures series featuring men and women who have shaped the Catholic intellectual tradition − a tradition at the heart of the educational enterprises at St. Mary’s University. The theme for the 2017 series of four lectures is The Art of Faith\, and will feature speakers from various faith traditions. \nFree and open to the public. \nFor more information\, contact Cindy Stooksberry at cstooksberry@stmarytx.edu. \n
URL:http://www.sanantoniopeace.center/event/the-faith-of-the-people-in-the-art-of-the-san-antonio-missions/
LOCATION:One Camino Santa Maria\, San Antonio\, TX\, United States
CATEGORIES:Other
ORGANIZER;CN="St.%20Mary%27s%20University":MAILTO:Cindy Stooksberry at cstooksberry@stmarytx.edu
END:VEVENT
END:VCALENDAR