BEGIN:VCALENDAR
VERSION:2.0
PRODID:-//peaceCENTER - ECPv4.6.13//NONSGML v1.0//EN
CALSCALE:GREGORIAN
METHOD:PUBLISH
X-WR-CALNAME:peaceCENTER
X-ORIGINAL-URL:http://www.sanantoniopeace.center
X-WR-CALDESC:Events for peaceCENTER
BEGIN:VEVENT
DTSTART;TZID=America/Chicago:20141112T190000
DTEND;TZID=America/Chicago:20141112T210000
DTSTAMP:20260425T190756
CREATED:20141019T035642Z
LAST-MODIFIED:20141019T035642Z
UID:375-1415818800-1415826000@www.sanantoniopeace.center
SUMMARY:The Changing Shape of the American Religious Landscape
DESCRIPTION:12th Annual Catholic Intellectual Tradition Lecture Series \nGregory Smith\nDirector of U.S. Religion Surveys\,\nPew Research Center’s Religion and Public Life Project\n“The Changing Shape of the American Religious Landscape” \nGregory A. Smith coordinates the Pew Research Center’s domestic polling on religion and provides reporting on religion as it relates to public opinion and American politics\, and the political views of Catholics. Smith holds a doctorate in government from the University of Virginia\, where he was a fellow at the Center on Religion and Democracy. \nHe is an author of the 2007 U.S. Religious Landscape Survey\, the 2010 U.S. Religious Knowledge Survey\, the 2007 and 2011 Pew Research Center surveys of Muslim Americans\, the 2011 National Survey of Mormons\, and the 2012 report ‘Nones’ on the Rise. Smith has been interviewed as an analyst by broadcast media and by The New York Times\, The Washington Post and USA Today.\n\nFree and open to the public. \nRefreshments and conversation to follow.\n \n
URL:http://www.sanantoniopeace.center/event/the-changing-shape-of-the-american-religious-landscape/
LOCATION:One Camino Santa Maria\, San Antonio\, TX\, 78228\, United States
ORGANIZER;CN="Cindy%20Stooksberry":MAILTO:cstooksberry@stmarytx.edu
END:VEVENT
END:VCALENDAR