BEGIN:VCALENDAR
VERSION:2.0
PRODID:-//peaceCENTER - ECPv4.6.13//NONSGML v1.0//EN
CALSCALE:GREGORIAN
METHOD:PUBLISH
X-WR-CALNAME:peaceCENTER
X-ORIGINAL-URL:http://www.sanantoniopeace.center
X-WR-CALDESC:Events for peaceCENTER
BEGIN:VEVENT
DTSTART;TZID=America/Chicago:20160922T203000
DTEND;TZID=America/Chicago:20160922T203000
DTSTAMP:20260425T154146
CREATED:20160919T135019Z
LAST-MODIFIED:20160919T135019Z
UID:8762-1474576200-1474576200@www.sanantoniopeace.center
SUMMARY:The Art of Examination: Art and Medicine Explored
DESCRIPTION: \nREGISTER \nLook. Now look again. Did you really see and remember what you were looking at? \nClose observation of works of art is a dynamic and creative experience that is increasingly used by medical schools and the medical profession to improve observational skills\, creative thinking\, comfort with ambiguity and relate these to diagnostic practices with patients. \nHear from Bonnie Pitman\, a former director of the Dallas Museum of Art and current Distinguished Scholar in Residence at the University of Texas at Dallas. This interactive Reuter Grand Rounds presentation will engage you in the critical examination of works of art to demonstrate how the identification of key pieces of data\, pattern recognition\, and interpretation of meaning are key elements in medical decision-making. \nA reception will begin at 5:30 p.m.\, followed by a 6 to 7 p.m. lecture. \n
URL:http://www.sanantoniopeace.center/event/the-art-of-examination-art-and-medicine-explored/
LOCATION:7793 Floyd Curl Dr.\, San Antonio\, TX\, 78228\, United States
CATEGORIES:Other
END:VEVENT
END:VCALENDAR