BEGIN:VCALENDAR
VERSION:2.0
PRODID:-//peaceCENTER - ECPv4.6.13//NONSGML v1.0//EN
CALSCALE:GREGORIAN
METHOD:PUBLISH
X-WR-CALNAME:peaceCENTER
X-ORIGINAL-URL:http://www.sanantoniopeace.center
X-WR-CALDESC:Events for peaceCENTER
BEGIN:VEVENT
DTSTART;TZID=America/Chicago:20160527T120000
DTEND;TZID=America/Chicago:20160527T130000
DTSTAMP:20260425T175427
CREATED:20160515T122233Z
LAST-MODIFIED:20160515T122233Z
UID:6963-1464350400-1464354000@www.sanantoniopeace.center
SUMMARY:Texas Public Radio Think Science: Human Resilience
DESCRIPTION:What does it take to survive in the face of adversity? What about sickness? A major disaster? Why do some people seem ‘stronger’ than others? At TPR’s Think Science: Human Resilience\, we’ll hear stories about people who have been through traumatic events\, and turn to a local researcher to learn a little bit about what makes it possible for humans to bounce back. \nThe hour-long discussion begins at noon on Friday\, May 27 at the Pearl Studio. Doors open at 11:30. The event is free and open to the public. Optional lunches will be available for $5 when you make your advance reservation. \nMore details: http://tpr.org/post/think-science-human-resilience \nMarian Sokol\, Ph.D.\, MPH is the  Executive Director of the Children’s Bereavement Center of Texas in San Antonio. Alan L. Peterson\, PhD\, ABPP\, is a board certified clinical health psychologist\, Professor\, and Chief of the Division of Behavioral Medicine in the Department of Psychiatry and School of Medicine at the University of Texas Health Science Center at San Antonio. \n \n
URL:http://www.sanantoniopeace.center/event/texas-public-radio-think-science-human-resilience/
LOCATION:200 E. Grayson\, San Antonio\, TX\, 78215\, United States
ORGANIZER;CN="Texas%20Public%20Radio":MAILTO: elisa@tpr.org
END:VEVENT
END:VCALENDAR