BEGIN:VCALENDAR
VERSION:2.0
PRODID:-//peaceCENTER - ECPv4.6.13//NONSGML v1.0//EN
CALSCALE:GREGORIAN
METHOD:PUBLISH
X-WR-CALNAME:peaceCENTER
X-ORIGINAL-URL:http://www.sanantoniopeace.center
X-WR-CALDESC:Events for peaceCENTER
BEGIN:VEVENT
DTSTART;TZID=America/Chicago:20141016T190000
DTEND;TZID=America/Chicago:20141016T203000
DTSTAMP:20260425T175139
CREATED:20141008T061749Z
LAST-MODIFIED:20141008T061749Z
UID:25-1413486000-1413491400@www.sanantoniopeace.center
SUMMARY:Teaming with Wildlife
DESCRIPTION:Learn why Texas wildlife is imperiled\, how the future of wildlife is connected to our spiritual selves\, and what we can do to make a difference. Presenter Richard Heilbrun is the Conservation Outreach Program Leader for Texas Parks & Wildlife Department. A wildlife biologist\, he has worked on projects to conserve wildlife\, manage wildlife habitat\, and help people connect with natural resources on a deeply personal level. Hosted by San Antonio Interfaith Power & Light at Unity Church\, 8103 Broadway (corner of Lawndale & Broadway)\, San Antonio\, TX 78209. \n
URL:http://www.sanantoniopeace.center/event/teaming-with-wildlife/
LOCATION:8103 Broadway\, San Antonio\, TX\, 78209\, United States
END:VEVENT
END:VCALENDAR