BEGIN:VCALENDAR
VERSION:2.0
PRODID:-//peaceCENTER - ECPv4.6.13//NONSGML v1.0//EN
CALSCALE:GREGORIAN
METHOD:PUBLISH
X-WR-CALNAME:peaceCENTER
X-ORIGINAL-URL:http://www.sanantoniopeace.center
X-WR-CALDESC:Events for peaceCENTER
BEGIN:VEVENT
DTSTART;TZID=America/Chicago:20170913T183000
DTEND;TZID=America/Chicago:20170913T200000
DTSTAMP:20260425T001349
CREATED:20170903T204216Z
LAST-MODIFIED:20170903T204216Z
UID:11076-1505327400-1505332800@www.sanantoniopeace.center
SUMMARY:TCADP San Antonio Chapter Meeting
DESCRIPTION: \nThe Texas Coalition to Abolish the Death Penalty San Antonio Chapter will host a member meeting at the Law Alumni Room in the Sarita Kenedy East Law Library (1 Camino Santa Maria St.) at St. Mary’s Law School. The meeting will begin at 6:30 PM. For more information\, please contact sanantonio@tcadp.org. \nThe TCADP San Antonio Chapter meets on the second Wednesday of every month. \n
URL:http://www.sanantoniopeace.center/event/tcadp-san-antonio-chapter-meeting/
LOCATION:One Camino Santa Maria\, San Antonio\, TX\, United States
CATEGORIES:Other
END:VEVENT
END:VCALENDAR