BEGIN:VCALENDAR
VERSION:2.0
PRODID:-//peaceCENTER - ECPv4.6.13//NONSGML v1.0//EN
CALSCALE:GREGORIAN
METHOD:PUBLISH
X-WR-CALNAME:peaceCENTER
X-ORIGINAL-URL:http://www.sanantoniopeace.center
X-WR-CALDESC:Events for peaceCENTER
BEGIN:VEVENT
DTSTART;TZID=America/Chicago:20171009T180000
DTEND;TZID=America/Chicago:20171009T203000
DTSTAMP:20260425T111749
CREATED:20171005T031557Z
LAST-MODIFIED:20171005T031557Z
UID:11264-1507572000-1507581000@www.sanantoniopeace.center
SUMMARY:Take Back the Night @UTSA
DESCRIPTION:\nCome join us October 9th at the UC Paseo for Take Back the Night. Be a part of the international initiative to end structural violence. \n
URL:http://www.sanantoniopeace.center/event/take-back-the-night-utsa/
LOCATION:1 UTSA Circle\, San Antonio\, TX\, United States
CATEGORIES:Other
ORGANIZER;CN="UTSA%20Women%27s%20Study%20Institute":MAILTO:Carolyn.motley@utsa.edu
END:VEVENT
END:VCALENDAR