BEGIN:VCALENDAR
VERSION:2.0
PRODID:-//peaceCENTER - ECPv4.6.13//NONSGML v1.0//EN
CALSCALE:GREGORIAN
METHOD:PUBLISH
X-WR-CALNAME:peaceCENTER
X-ORIGINAL-URL:http://www.sanantoniopeace.center
X-WR-CALDESC:Events for peaceCENTER
BEGIN:VEVENT
DTSTART;TZID=America/Chicago:20160723T100000
DTEND;TZID=America/Chicago:20160723T130000
DTSTAMP:20260425T192914
CREATED:20160711T195051Z
LAST-MODIFIED:20160711T195051Z
UID:7882-1469268000-1469278800@www.sanantoniopeace.center
SUMMARY:Take Back Our City! (From Developers) Community Discussion
DESCRIPTION: \nWorried about increasing rent or property taxes? Upset about seeing your taxes continually going to the Northside or touristy part of Downtown and not your neighborhood? Tired of public parks like Brackenridge and Hemisphere being privatized or being made reserved for wealthy people? Do you want change in your community? \nJoin us for a community discussion on July 23 from 10 AM- 1 PM about all of these realities we are facing as well as brainstorm/learn ways to TAKE BACK OUR CITY from developers. \n
URL:http://www.sanantoniopeace.center/event/take-back-our-city-from-developers-community-discussion/
LOCATION:922 San Pedro\, San Antonio\, TX\, 78212\, United States
CATEGORIES:Other
END:VEVENT
END:VCALENDAR