BEGIN:VCALENDAR
VERSION:2.0
PRODID:-//peaceCENTER - ECPv4.6.13//NONSGML v1.0//EN
CALSCALE:GREGORIAN
METHOD:PUBLISH
X-WR-CALNAME:peaceCENTER
X-ORIGINAL-URL:http://www.sanantoniopeace.center
X-WR-CALDESC:Events for peaceCENTER
BEGIN:VEVENT
DTSTART;TZID=America/Chicago:20160204T090000
DTEND;TZID=America/Chicago:20160204T101500
DTSTAMP:20260425T165808
CREATED:20160120T140048Z
LAST-MODIFIED:20160120T161519Z
UID:6087-1454576400-1454580900@www.sanantoniopeace.center
SUMMARY:Sustainable Systems: Environmental\, Economic and Social--Looking Towards the Future
DESCRIPTION: The world faces many dynamic environmental\, economic and social challenges. How do we create sustainable systems that meet these challenges so the people of the world can live fulfilling lives in harmony with one another and with nature? This will explore climate change as one environmental challenge among many\, the future of energy as one of many economic challenges\, and work as one of the social challenges facing the world. The Presenter: Joe Cook holds a B.Sc in Natural Resources and the Environment (Univ. of MI)\, a M.Sc in Entomology with Minor in Soil Science (Univ. of MN)\, an MBA (UIW)\, a MTS (Oblate School of Theology\, and a M.A. in Theology (St. Mary’s University). He has worked worldwide in Natural Resources and the Environment with his last position being a Senior Environmental and Sustainability Scientist with the firm Consulting for Health\, Air\, Nature and a Greener Environment. \n
URL:http://www.sanantoniopeace.center/event/sustainable-systems-environmental-economic-and-social-looking-towards-the-future/
LOCATION:4301 Broadway\, 78209
CATEGORIES:Other
ORGANIZER;CN="University%20of%20the%20Incarnate%20Word":MAILTO:jlcapplevalleyca@gmail.com
END:VEVENT
END:VCALENDAR