BEGIN:VCALENDAR
VERSION:2.0
PRODID:-//peaceCENTER - ECPv4.6.13//NONSGML v1.0//EN
CALSCALE:GREGORIAN
METHOD:PUBLISH
X-WR-CALNAME:peaceCENTER
X-ORIGINAL-URL:http://www.sanantoniopeace.center
X-WR-CALDESC:Events for peaceCENTER
BEGIN:VEVENT
DTSTART;TZID=America/Chicago:20161126T180000
DTEND;TZID=America/Chicago:20161126T180000
DTSTAMP:20260425T123556
CREATED:20161110T124742Z
LAST-MODIFIED:20161110T124742Z
UID:9024-1480183200-1480183200@www.sanantoniopeace.center
SUMMARY:Storytellers Gala
DESCRIPTION: \nhe Circle School is proud to introduce the first annual Circle School Storytellers Gala on November Saturday 26th from 6 pm to midnight at Magnolia Gardens\, 2030 N. Main Avenue. \nPlease join us in celebrating the tradition of storytelling as a powerful method to educate and cultivate lifelong empathy for our fellow citizens of the world. \nTickets:\n$40 per person\, $350 per table\, $35 for child care \nProceeds benefit The Circle School \nThe Storytellers Gala will feature: \n– Silent auction centered on art and local businesses\n– Food by Hippie Homestead\n– Open Bar – beer\, wine\, signature cocktail\n– Music \nRecommended dress is cocktail or San Antonio themed attire. \nParent’s Night Out childcare for ages 4+ is available at The Circle School for the evening. Childcare may be reserved with your ticket purchase and an email with additional registration information will follow to confirm your child’s space. \n
URL:http://www.sanantoniopeace.center/event/storytellers-gala/
LOCATION:2030 N. Main Ave.\, San Antonio\, TX\, 78212\, United States
CATEGORIES:Other
END:VEVENT
END:VCALENDAR