BEGIN:VCALENDAR
VERSION:2.0
PRODID:-//peaceCENTER - ECPv4.6.13//NONSGML v1.0//EN
CALSCALE:GREGORIAN
METHOD:PUBLISH
X-WR-CALNAME:peaceCENTER
X-ORIGINAL-URL:http://www.sanantoniopeace.center
X-WR-CALDESC:Events for peaceCENTER
BEGIN:VEVENT
DTSTART;TZID=America/Chicago:20160408T183000
DTEND;TZID=America/Chicago:20160408T203000
DTSTAMP:20260425T132431
CREATED:20160329T192906Z
LAST-MODIFIED:20160329T192906Z
UID:6751-1460140200-1460147400@www.sanantoniopeace.center
SUMMARY:Start by Believing Campaign Launch
DESCRIPTION:This event is FREE and open to the public. \nSelfe-Station! Music! Refreshments! Campaign Materials! \nLearn how the Start by Believing campaign is improving the way we respond to rape and sexual assault. \nHear from supporters in the community and find out how you can join the movement to create a more respectful and compassionate San Antonio. For more info you can contact sbb@rapecrisis.com. \n \n
URL:http://www.sanantoniopeace.center/event/start-by-believing-campaign-launch/
LOCATION:1518 S. Alamo\, San Antonio\, TX\, 78204\, United States
END:VEVENT
END:VCALENDAR