BEGIN:VCALENDAR
VERSION:2.0
PRODID:-//peaceCENTER - ECPv4.6.13//NONSGML v1.0//EN
CALSCALE:GREGORIAN
METHOD:PUBLISH
X-WR-CALNAME:peaceCENTER
X-ORIGINAL-URL:http://www.sanantoniopeace.center
X-WR-CALDESC:Events for peaceCENTER
BEGIN:VEVENT
DTSTART;TZID=America/Chicago:20160924T150000
DTEND;TZID=America/Chicago:20160924T180000
DTSTAMP:20260425T142610
CREATED:20160924T032926Z
LAST-MODIFIED:20160924T032926Z
UID:8797-1474729200-1474740000@www.sanantoniopeace.center
SUMMARY:Stand  With Terence  Crutcher
DESCRIPTION: \n
URL:http://www.sanantoniopeace.center/event/stand-with-terence-crutcher/
LOCATION:211 E. Travis\, San Antonio\, TX\, 78205\, United States
CATEGORIES:Other
END:VEVENT
END:VCALENDAR