BEGIN:VCALENDAR
VERSION:2.0
PRODID:-//peaceCENTER - ECPv4.6.13//NONSGML v1.0//EN
CALSCALE:GREGORIAN
METHOD:PUBLISH
X-WR-CALNAME:peaceCENTER
X-ORIGINAL-URL:http://www.sanantoniopeace.center
X-WR-CALDESC:Events for peaceCENTER
BEGIN:VEVENT
DTSTART;TZID=America/Chicago:20150224T080000
DTEND;TZID=America/Chicago:20150226T170000
DTSTAMP:20260425T151417
CREATED:20141108T032927Z
LAST-MODIFIED:20141108T095830Z
UID:790-1424764800-1424970000@www.sanantoniopeace.center
SUMMARY:St.MU: Students in Debt\, a People in Debt: Indebted to a Vocation?
DESCRIPTION:President’s Peace Commission @ St. Mary’s University \n(more info will follow as the date gets closer) \nCollege students strain to pay increasing university tuitions\, incurring debt that may follow them for many years after graduation. Students worry that they will not find gainful employment\, even with a college degree. Meanwhile\, many people in the United States struggle with homelessness\, food insecurity and healthcare. Unemployment and under-employment remain stubbornly high\, and the work that is available tends to pay less than it did a scant few decades ago. We live in dread of impending layoffs\, while the stock market goes up and the rich get richer. Indeed\, our world is fraught with perils and our futures are far from assured. Where\, in such a world\, do we turn for hope and inspiration? \nIn an economy increasingly defined by complexity\, global interconnectedness and uncertainty – how do we prevent ourselves from being consumed by fear and anxiety? This year’s President’s Peace Commission invites scholars\, practitioners\, and leaders in the Catholic Church to discuss four key questions: First\, how do we encourage students to pursue a liberal-arts-based education – following their passions\, talents and vocational calling\, regardless of legitimate concerns about economic security? Second\, can we make a living doing what we love? Or can we redefine wealth in non-traditional ways – more than simply a yearly salary and the conspicuous consumption of goods? Third\, in a nation that seemingly values technical degrees in specific fields\, why is a liberal-arts-based education invaluable to students and society as a whole? And ultimately\, how can students use their degrees in the fields that they love to create a more socially just world that promotes Marianist values and the Common Good? \n  \n
URL:http://www.sanantoniopeace.center/event/st-mu-students-in-debt-a-people-in-debt-indebted-to-a-vocation/
LOCATION:1 Camina Maria\, San Antonio\, TX\, United States
END:VEVENT
END:VCALENDAR