BEGIN:VCALENDAR
VERSION:2.0
PRODID:-//peaceCENTER - ECPv4.6.13//NONSGML v1.0//EN
CALSCALE:GREGORIAN
METHOD:PUBLISH
X-WR-CALNAME:peaceCENTER
X-ORIGINAL-URL:http://www.sanantoniopeace.center
X-WR-CALDESC:Events for peaceCENTER
BEGIN:VEVENT
DTSTART;TZID=America/Chicago:20171011T183000
DTEND;TZID=America/Chicago:20171012T170000
DTSTAMP:20260425T112944
CREATED:20171007T140111Z
LAST-MODIFIED:20171007T140114Z
UID:11291-1507746600-1507827600@www.sanantoniopeace.center
SUMMARY:Spirituality and Healthcare Conference: Healing Our Fractured Healthcare
DESCRIPTION: \nOctober 11th | Reception and Dr. Zitter Keynote 6:30 pm  (This evening lecture is free) \nOctober 12th | 8:00 am – 5:00 pm Lectures & Workshops (There is a charge for the all-day conference: REGISTER HERE) \nDr. Zitter will provide a screening of her Academy Award nominated film\, Extremis\, and keynote presentation and Q&A with attendees. Copies of her book\, Extreme Measures: Finding a Better Path to the End of Life will be signed and available to attendees. \nDr. Jessica Nutik-Zitter is a national advocate for improving the way people die in America. She practices the unique combination of Critical and Palliative Care medicine at Highland Hospital\, a public hospital in Oakland\, California.    “Required reading for every young medical student and every family member wondering how to help the people they love live well to the end.” – Ellen Goodman \nHere are the workshops we are offering at this year’s conference. \nWhen purchasing your tickets\, you will select one Workshop from each Breakout Session. \n1 B R E A K O U T S E S S I O N\nWorkshop 1: End-of-Life Conversations in 2017: Are We Making Progress? – Margaret Overton\, M.D.\, Craig Hurwitz\, M.D.\, Deborah J. Kaercher\, MPH\, PhD\nWorkshop 2: The Effects of Psychological Trauma on Spiritual Development – Gerry Grace\, Ph.D\, M.Div\, Melissa Ramirez\, LCSW\nWorkshop 3: The Spiritual Dynamics of Sickness & Wellness: Exploring Beliefs Through Dialogue – Linda Mockeridge\, LCSW\nWorkshop 4: Spiritual Metrics – Ann Helmke\, M.Div \n2 B R E A K O U T S E S S I O N\nWorkshop 1: Moral Injury -Chaplain Kerry Haynes. D.Min.\, M.Div.\, BCC/MH. Mental Health Chaplain. San Antonio VA.\nWorkshop 2: How to Integrate Spirituality into Healthcare Systems -Ann Helmke\, M.Div\nWorkshop 3: Nature Based Soul Care and Healing -Steven Chase\, Ph.D\nWorkshop 4: Collaborations for Children with Chronic Illnesses: Advocating for the Difficult Conversation – M. Danielle Gunter\, PhD\, RN\, CPN \n3 B R E A K O U T S E S S I O N\nWorkshop 1: Healers Need Healing Too- The Neglected Dimension -Peter V. Kuhl\, M.Div.\,M.D.\,FACOG.\nWorkshop 2: Issues of Faith and Diversity in Healthcare -Rajam Ramamurthy\, MD Professor Emeritus. Department of Pediatrics UT Health\nWorkshop 3: Have You Had the Talk?  -Dr. Phillip D. Williams\, Rev. Judith Rhodes – The Church of Reconciliation\, Rabbi Mara Nathan – Temple-Bethel\, Chaplain Phillip Williams – Community Bible Church\, Darwin Huartson- Community Education -Porter Loring\nWorkshop 4: Cultural Perspectives on End-of-Life and Palliative Care Conversations -Dr. Mark Clark\, Ana P. Bendana MST\, RN\, CHPN\, Anil T. Mangla\, MS\, PhD\, MPH\, FRSPH\, Danielle Gunter\, PhD\, RN\, C\, Lubna Naeem\, M.D. \nK E Y N O T E S P E A K E R S \n8:30 Medical Education as an Agent of Change -Robyn L. Phillips-Madson\, Founding Dean of UIW School of Osteopathic Medicine \n1:30 Integrating Art\, Spirituality and Health -Maripat Munley RN\, MPH\, MA\, ATR-BC \nEach class offered will count for 1 CME\, CNU\, CEU for LMSW\, LCSW\, LPC or LMFT Credit \nREGISTER HERE \n
URL:http://www.sanantoniopeace.center/event/spirituality-and-healthcare-conference-healing-our-fractured-healthcare/
LOCATION:285 Oblate Drive\, San Antonio\, 78216\, United States
CATEGORIES:Other,peaceCENTER
ORGANIZER;CN="peaceCENTER":MAILTO:info@sacompassionnet.org
END:VEVENT
END:VCALENDAR