BEGIN:VCALENDAR
VERSION:2.0
PRODID:-//peaceCENTER - ECPv4.6.13//NONSGML v1.0//EN
CALSCALE:GREGORIAN
METHOD:PUBLISH
X-WR-CALNAME:peaceCENTER
X-ORIGINAL-URL:http://www.sanantoniopeace.center
X-WR-CALDESC:Events for peaceCENTER
BEGIN:VEVENT
DTSTART;TZID=America/Chicago:20161004T180000
DTEND;TZID=America/Chicago:20161004T203000
DTSTAMP:20260425T175504
CREATED:20160928T130911Z
LAST-MODIFIED:20160928T130911Z
UID:8815-1475604000-1475613000@www.sanantoniopeace.center
SUMMARY:Special Screening: Willie Velasquez: Your Vote Is Your Voice
DESCRIPTION: \nUTSA Libraries Special Collections will have on display a sampling of the newly acquired Southwest Voter Registration Education Project collection that they are working to catalog and digitize. \nReception at 6 PM\nScreening followed by Q&A at 6:30 PM \nThis fifty four minute PBS documentary features Willie Velzsquez\, a San Antonio Westside native and 1966 graduate of St. Mary’s University whom founded the Southwest Voter Registration and Education Project. He was awarded the Presidential Medal of Freedom posthumously by President Clinton in 1995. “The SWVREP launched over 1\,00 voter registration drives in 200 cities\, paving the way for Latinos to have a voice in government and underscoring the growing power of the Latino vote…” \n
URL:http://www.sanantoniopeace.center/event/special-screening-willie-velasquez-your-vote-is-your-voice/
LOCATION:One Camino Santa Maria\, San Antonio\, TX\, United States
CATEGORIES:Other
END:VEVENT
END:VCALENDAR