BEGIN:VCALENDAR
VERSION:2.0
PRODID:-//peaceCENTER - ECPv4.6.13//NONSGML v1.0//EN
CALSCALE:GREGORIAN
METHOD:PUBLISH
X-WR-CALNAME:peaceCENTER
X-ORIGINAL-URL:http://www.sanantoniopeace.center
X-WR-CALDESC:Events for peaceCENTER
BEGIN:VEVENT
DTSTART;TZID=America/Chicago:20180226T190000
DTEND;TZID=America/Chicago:20180226T203000
DTSTAMP:20260424T212345
CREATED:20180125T175905Z
LAST-MODIFIED:20180125T175905Z
UID:12079-1519671600-1519677000@www.sanantoniopeace.center
SUMMARY:Social Justice Reading Series: Reginald Dwayne Betts
DESCRIPTION: \nBetts is a Soros Justice Fellow and award-winning poet. Arrested at 16 for car-jacking\, he graduated from Yale law and is a practicing attorney who speaks and writes poems about issues surrounding the criminal justice system. \n
URL:http://www.sanantoniopeace.center/event/social-justice-reading-series-reginald-dwayne-betts/
LOCATION:411 S.W. 24th St.\, San Antonio\, TX\, 78207\, United States
CATEGORIES:Other
END:VEVENT
END:VCALENDAR