BEGIN:VCALENDAR
VERSION:2.0
PRODID:-//peaceCENTER - ECPv4.6.13//NONSGML v1.0//EN
CALSCALE:GREGORIAN
METHOD:PUBLISH
X-WR-CALNAME:peaceCENTER
X-ORIGINAL-URL:http://www.sanantoniopeace.center
X-WR-CALDESC:Events for peaceCENTER
BEGIN:VEVENT
DTSTART;TZID=America/Chicago:20161119T130000
DTEND;TZID=America/Chicago:20161119T160000
DTSTAMP:20260425T141535
CREATED:20161015T151505Z
LAST-MODIFIED:20161015T151505Z
UID:8873-1479560400-1479571200@www.sanantoniopeace.center
SUMMARY:Sisters Summit: Drawing Strength From Within
DESCRIPTION: \nWe’re so excited to be hosting our very first Sisters Summit at MCECC. We will be hosting two amazing speakers Ustadha Maryam Amir & Ustadha Amina Darwish. \nTickets can be bought at the kiosks at MCECC.\n**No one will be turned away due to lack of funds\, please email us at contact@mcecc.com** \nUstadha Maryam Amirebrahimi received her master’s in Social Justice Education from UCLA. She holds a bachelor’s in Child and Adolescent Development from San Jose State University\, Currently\, she is pursuing a second bachelor’s degree in Islamic Studies through Al Azhar University’s distance learning program. She has been presented the Student of the Year award by former California Governor Arnold Schwarzenegger and holds a second degree black belt in Tae Kwon Do. She writes about topics related to social realities\, women’s studies and spiritual connections on the popular online blog\, www.suhaibwebb.com\, and is a frequent speaker in various communities. \nUstadha Amina Darwish is a graduate of the Qalam seminary under the guidance of Sheikh Abdul Nasir Jangda. She is the Muslim chaplain at the University of Cincinnati. She earned a bachelors of science in Chemical Engineering from Kuwait University\, a masters of science in Industrial Engineering and PhD in Chemical Engineering from the University of Cincinnati. She worked as an adjunct faculty at the University of Cincinnati Clermont and as the content development coordinator at the Muslim Youth of North America. She is a recognized national youth advocate and speaker. \n
URL:http://www.sanantoniopeace.center/event/sisters-summit-drawing-strength-from-within/
LOCATION:5281 Casa Bella\, San Antonio\, TX\, 78249\, United States
CATEGORIES:Other
END:VEVENT
END:VCALENDAR