BEGIN:VCALENDAR
VERSION:2.0
PRODID:-//peaceCENTER - ECPv4.6.13//NONSGML v1.0//EN
CALSCALE:GREGORIAN
METHOD:PUBLISH
X-WR-CALNAME:peaceCENTER
X-ORIGINAL-URL:http://www.sanantoniopeace.center
X-WR-CALDESC:Events for peaceCENTER
BEGIN:VEVENT
DTSTART;TZID=America/Chicago:20170907T190000
DTEND;TZID=America/Chicago:20170907T210000
DTSTAMP:20260424T212704
CREATED:20170625T140757Z
LAST-MODIFIED:20170625T140757Z
UID:10560-1504810800-1504818000@www.sanantoniopeace.center
SUMMARY:Simply Being Good-Hearted is Not Enough: A Spirituality of Charity\, Justice\, and Prophecy @Oblate
DESCRIPTION: \nOur communities\, civil and church\, have never been more divided about what constitutes charity\, justice\, and prophecy. Faith issues and moral issues have never been more divisive.\nToday the sincere are being divided from the sincere. What is charity? What is justice? What is prophecy? What is taught in scripture and what is the Church’s rich tradition on charity\, social justice\, and prophecy? A spirituality of charity\, justice\, and prophecy.\nSpeaker \nRev. Ron Rolheiser\, OMI is a Roman Catholic priest\, member of the Missionary Oblates of Mary Immaculate and president of Oblate School of Theology. Rolheiser is a theologian\, professor\, and award-winning author. Apart from his academic knowledge in systematic theology and philosophy\, he has become a popular speaker in contemporary spirituality and religion and the secular world. He writes a weekly column that is carried in over 70 newspapers around the world. He is a popular speaker in the areas of contemporary spirituality and religion and the secular world. His latest work is Sacred Fire: A Vision for a Deeper Human and Christian Maturity. \nLecture Dates\nSeptember 7\, 2017\nSeptember 14\, 2017\nSeptember 21\, 2017 \nRegistration fee for lecture series is $60 \nFor information or to register by phone\, contact Brenda at (210) 341-1366 EXT 212 \n20% discount for groups of 5 or more – use coupon code rrlecture at checkout. \n
URL:http://www.sanantoniopeace.center/event/simply-being-good-hearted-is-not-enough-a-spirituality-of-charity-justice-and-prophecy-oblate/
LOCATION:285 Oblate Drive\, San Antonio\, 78216\, United States
CATEGORIES:Other
END:VEVENT
END:VCALENDAR