BEGIN:VCALENDAR
VERSION:2.0
PRODID:-//peaceCENTER - ECPv4.6.13//NONSGML v1.0//EN
CALSCALE:GREGORIAN
METHOD:PUBLISH
X-WR-CALNAME:peaceCENTER
X-ORIGINAL-URL:http://www.sanantoniopeace.center
X-WR-CALDESC:Events for peaceCENTER
BEGIN:VEVENT
DTSTART;TZID=America/Chicago:20160813T170000
DTEND;TZID=America/Chicago:20160813T190000
DTSTAMP:20260425T165409
CREATED:20160807T092628Z
LAST-MODIFIED:20160809T162320Z
UID:8303-1471107600-1471114800@www.sanantoniopeace.center
SUMMARY:Silent Protest @Travis Park
DESCRIPTION: \nFrom Johnathan-David Jones \nPeace\, kings\, queens\, freedom fighters\, lovers of love\, peace\, unity\, and justice. Lovers of goodness. First let it be said: \n“Love and peace and unity is not the absence of conflict\, or to flee from it. Love is to dive head first into conflict\, in the name of love; for the sake of peace and unity.” \nThe sickening reality is that our country’s attention towards our community changes as often as our emotions. It is very easy for some people\, who have no direct connections to the tragedies that plague communities of color\, to forget that the things we see sensationalized on TV is routine for us.\nAnd more specifically\, that the issues we see publicized Nationwide\, has happened\, and very well could happen again\, locally in San Antonio\, Texas. \n#AntoineScott #CameronRedus #GilbertFlores #JesseAguire #NormanCooper #MarquiseJones \nPlease join us Saturday\, as we continue to apply pressure to the dormancy of our city. Our requests have become requirements. And our expectations have become necesseities. \nThe nature of Silent Protesting: \nThere is no voice more powerful than the voice of the voiceless. This notion is no better expressed than by this demonstration. Modeling this demonstration by the countless times it has been done sucessfuly across the country\, we will chill the streets with deft silence\, and express our dissension with our bodies\, and the information on our signs. Many of our brothers and sisters can no longer speak. But that does not mean that their voices can not be heard. \nPlease private message me or email me at: thepoeticcontrast@gmail.com for details. \n“One of the most powerful things you can ever make in this life\, is a decision.” – Johnathan-David Jones \n
URL:http://www.sanantoniopeace.center/event/silent-protest-travis-park/
LOCATION:211 E. Travis\, San Antonio\, TX\, 78205\, United States
CATEGORIES:Other
ORGANIZER;CN="Johnathan-David%20Jones":MAILTO:thepoeticcontrast@gmail.com
END:VEVENT
END:VCALENDAR