BEGIN:VCALENDAR
VERSION:2.0
PRODID:-//peaceCENTER - ECPv4.6.13//NONSGML v1.0//EN
CALSCALE:GREGORIAN
METHOD:PUBLISH
X-WR-CALNAME:peaceCENTER
X-ORIGINAL-URL:http://www.sanantoniopeace.center
X-WR-CALDESC:Events for peaceCENTER
BEGIN:VEVENT
DTSTART;TZID=America/Chicago:20150221T090000
DTEND;TZID=America/Chicago:20150221T170000
DTSTAMP:20260425T122714
CREATED:20150127T235800Z
LAST-MODIFIED:20150128T015655Z
UID:2204-1424509200-1424538000@www.sanantoniopeace.center
SUMMARY:Sikhs: Legacy of the Punjab @ Institute of Texan Cultures
DESCRIPTION:February 21 through October 18 2015 \nThe Institute of Texan Cultures will host the traveling exhibit\, “Sikhs: Legacy of the Punjab\,” developed by the Smithsonian Institution and sponsored by the Sikh Heritage Foundation. \nSikhs\, a unique culture and religion\, originate in the Punjab region of India\, straddling the India-Pakistan border. Male Sikhs are easily recognized by their turbans and untrimmed beards. The community and its leaders have been working with the museum to continue educating about their culture\, which has experienced discrimination and suspicion in a post-9/11 society. In San Antonio\, the Sikh community has grown to nearly 300 families. \nThe exhibit features a collection of traditional Sikh art\, information on the culture’s history and beliefs\, artifacts such as ceremonial weapons and armor\, and a model of the Golden Temple\, one of the sacred sites of the Sikh religion. \n$8 adult admission is to the museum; the exhibit itself is free once you’re inside. The Institute of Texan Cultures is free to all the 2nd Sunday of every month.  \n
URL:http://www.sanantoniopeace.center/event/sikhs-legacy-of-the-punjab-institute-of-texan-cultures/
LOCATION:801 E. Cesar E. Chavez Blvd.\, San Antonio\, TX\, United States
END:VEVENT
END:VCALENDAR