BEGIN:VCALENDAR
VERSION:2.0
PRODID:-//peaceCENTER - ECPv4.6.13//NONSGML v1.0//EN
CALSCALE:GREGORIAN
METHOD:PUBLISH
X-WR-CALNAME:peaceCENTER
X-ORIGINAL-URL:http://www.sanantoniopeace.center
X-WR-CALDESC:Events for peaceCENTER
BEGIN:VEVENT
DTSTART;TZID=America/Chicago:20151211T130000
DTEND;TZID=America/Chicago:20151211T140000
DTSTAMP:20260425T125056
CREATED:20151211T054752Z
LAST-MODIFIED:20151211T054752Z
UID:5698-1449838800-1449842400@www.sanantoniopeace.center
SUMMARY:Show Solidarity with San Antonio Muslims
DESCRIPTION:in San Antonio:\n\nat the Muslim Children’s Education & Civic Center MCECC (Across from UTSA) \n\n\n\n5281 Casa Bella San Antonio\, TX 78249\n\n\nIt will be during Friday prayers (1-2PM). \n\n\nAll are welcome \nto come inside\, observe and participate\,\nor stay outside at the Pavilions –\nThis is a safe and inclusive event. \nBring a Sign or Flower to show you’re an Ally. \n\n\nDelicious food will be available after Juma’a \n(=Friday congregational Community Prayer)\n\nLots of parking inside the gate.\n\n\n\n\n\n(210) 877-9738 \ncontact@mcecc.com\n\n\n\n\n  \n
URL:http://www.sanantoniopeace.center/event/show-solidarity-with-san-antonio-muslims/
LOCATION:5281 Casa Bella\, San Antonio\, TX\, 78249\, United States
ORGANIZER;CN="Muslim%20Children%27s%20Education%20%26%20Civic%20Center":MAILTO:ontact@mcecc.com
END:VEVENT
END:VCALENDAR