BEGIN:VCALENDAR
VERSION:2.0
PRODID:-//peaceCENTER - ECPv4.6.13//NONSGML v1.0//EN
CALSCALE:GREGORIAN
METHOD:PUBLISH
X-WR-CALNAME:peaceCENTER
X-ORIGINAL-URL:http://www.sanantoniopeace.center
X-WR-CALDESC:Events for peaceCENTER
BEGIN:VEVENT
DTSTART;TZID=America/Chicago:20151115T110000
DTEND;TZID=America/Chicago:20151115T120000
DTSTAMP:20260425T140556
CREATED:20151114T233427Z
LAST-MODIFIED:20151114T233427Z
UID:5094-1447585200-1447588800@www.sanantoniopeace.center
SUMMARY:Shoulder to Shoulder with Paris Gathering
DESCRIPTION: \nSan Antonio’s French community will hold a support gathering at 11 a.m. on Sunday\, November 15 at Main Plaza (115 N. Main Ave.) downtown. Called “Shoulder to Shoulder with Paris\,” the event is an opportunity to show solidarity with one of our country’s oldest allies in a time of great loss. \n
URL:http://www.sanantoniopeace.center/event/shoulder-to-shoulder-with-paris-gathering/
LOCATION:115 N. Main\, San Antonio\, TX\, United States
END:VEVENT
END:VCALENDAR