BEGIN:VCALENDAR
VERSION:2.0
PRODID:-//peaceCENTER - ECPv4.6.13//NONSGML v1.0//EN
CALSCALE:GREGORIAN
METHOD:PUBLISH
X-WR-CALNAME:peaceCENTER
X-ORIGINAL-URL:http://www.sanantoniopeace.center
X-WR-CALDESC:Events for peaceCENTER
BEGIN:VEVENT
DTSTART;TZID=America/Chicago:20160924T180000
DTEND;TZID=America/Chicago:20160924T203500
DTSTAMP:20260425T165655
CREATED:20160919T181422Z
LAST-MODIFIED:20160919T181422Z
UID:8770-1474740000-1474749300@www.sanantoniopeace.center
SUMMARY:Selichot Dinner & Movie ("The Other Son")
DESCRIPTION:To begin Selichot\, Temple Beth-El will screen the award winning Israeli film\, “The Other Son” by Lorraine Levy\, followed by a discussion of the film by Rabbi Mara Nathan\, where we will discover its connection to the themes of the season. Dinner from Moshe’s Golden Falafel will be available before the movie at a cost of $9 per person. RSVP Online. \n“As he is preparing to join the Israeli army for his national service\, Joseph discovers he is not his parents’ biological son\, and that he was inadvertently switched at birth with Yacine\, the son of a Palestinian family from the West Bank. This revelation turns the lives of these two families upside-down\, forcing them to reassess their respective identities\, their values and their beliefs. \nIf the cost of the dinner would prevent you from attending\, please contact Rabbi Nathan or Geri Gregory. Full and partial scholarships available\, requests will be kept confidential. \nAfterwards\, there will be a Dessert Reception in the Stahl Gallery at 8:30 pm and our Candlelight Selichot Service & Havdalah will be at 9:00 pm in the Wulfe Sanctuary. \n \n
URL:http://www.sanantoniopeace.center/event/selichot-dinner-movie-the-other-son/
LOCATION:211 Belknap\, San Antonio\, TX\, 78212\, United States
CATEGORIES:Other
END:VEVENT
END:VCALENDAR