BEGIN:VCALENDAR
VERSION:2.0
PRODID:-//peaceCENTER - ECPv4.6.13//NONSGML v1.0//EN
CALSCALE:GREGORIAN
METHOD:PUBLISH
X-WR-CALNAME:peaceCENTER
X-ORIGINAL-URL:http://www.sanantoniopeace.center
X-WR-CALDESC:Events for peaceCENTER
BEGIN:VEVENT
DTSTART;TZID=America/Chicago:20150704T130000
DTEND;TZID=America/Chicago:20150704T150000
DTSTAMP:20260424T211951
CREATED:20150626T162902Z
LAST-MODIFIED:20150626T162902Z
UID:3490-1436014800-1436022000@www.sanantoniopeace.center
SUMMARY:Scars & Stripes 4 Mile March
DESCRIPTION:The March will start at the MLK Statue on N. New Braunfels and end at the Guadalupe Cultural Arts at 723 S. Brazos. \n \n  \nThe epidemic of police violence in America is alarming\, and disproportionately affects communities of color. While the American government does not track homicide data of state law enforcement bodies\, a private organization called Killed By Police began collecting data in May 2013\, and its data reveals a disturbing pattern. According to Killed by Police\, as of April\, 20\, 2015\, American police have killed 351 people. That is three homicides per day\, or roughly one stolen life every 8 hours. Of those 351 homicides\, 231 victims were members of a community of color or not identified by race. \nWhen we compare this data to the rates of homicide by police in other countries\, the picture becomes all the more disturbing.\nChina: 12 homicides by police in the entire year of 2014. U.K: 1\nGermany and Ireland: 0 \nAmong industrialized nations\, the U.S. leads in only two categories:\n– the number of people incarcerated\n– rate at which civilians are killed by law enforcement. \nThe march will remind the world that people of color do not enjoy the independence that was declared on July 4\, 1776. \nWe will rally for a day when the truth that all men are created equal\, and endowed with the unalienable rights of life\, liberty\, and the pursuit of happiness\, is finally self-evident. \nWe will fight for transparency\, accountability\, and reformation of the American (in)justice system. \n
URL:http://www.sanantoniopeace.center/event/scars-stripes-4-mile-march/
LOCATION:502 N. New Braunfels\, San Antonio\, TX\, 78202\, United States
END:VEVENT
END:VCALENDAR