BEGIN:VCALENDAR
VERSION:2.0
PRODID:-//peaceCENTER - ECPv4.6.13//NONSGML v1.0//EN
CALSCALE:GREGORIAN
METHOD:PUBLISH
X-WR-CALNAME:peaceCENTER
X-ORIGINAL-URL:http://www.sanantoniopeace.center
X-WR-CALDESC:Events for peaceCENTER
BEGIN:VEVENT
DTSTART;TZID=America/Chicago:20151113T170000
DTEND;TZID=America/Chicago:20151113T180000
DTSTAMP:20260425T102634
CREATED:20151112T045613Z
LAST-MODIFIED:20151112T045613Z
UID:5057-1447434000-1447437600@www.sanantoniopeace.center
SUMMARY:Sana Saeed: Islam & Mass Media
DESCRIPTION:\nUTSA MSA is very excited to announce that Sana Saeed\, an AJ+ (Al-Jazeera Plus) producer and contributor\, will be speaking here at UTSA Friday\, November 13th\, at 5:00pm! \nWhen: Friday\, November 13th\, at 5:00pm\nWhere: MH Bldg 2.01.12 (CAMPUS MAP)\nTopic: Islam and Mass Media \nSana Saeed is a politically savvy creative nonfiction writer and humorist currently based in Canada. She is a producer for AJ+\, the fastest growing online news network to emerge over the past year\, and is outspoken on topics like race\, religion\, and foreign policy. She holds an MA in Islamic Studies from the Institute for Islamic Studies at McGill University\, with a focus on modern Levantine political history. \nThis event is open to the public\, so please feel free to invite family/friends. We will start promptly at 5:00pm! \n
URL:http://www.sanantoniopeace.center/event/sana-saeed-islam-mass-media/
LOCATION:One UTSA Circle\, San Antonio\, TX\, 78249-3209\, United States
END:VEVENT
END:VCALENDAR