BEGIN:VCALENDAR
VERSION:2.0
PRODID:-//peaceCENTER - ECPv4.6.13//NONSGML v1.0//EN
CALSCALE:GREGORIAN
METHOD:PUBLISH
X-WR-CALNAME:peaceCENTER
X-ORIGINAL-URL:http://www.sanantoniopeace.center
X-WR-CALDESC:Events for peaceCENTER
BEGIN:VEVENT
DTSTART;TZID=America/Chicago:20160426T113000
DTEND;TZID=America/Chicago:20160426T130000
DTSTAMP:20260425T134254
CREATED:20160323T072403Z
LAST-MODIFIED:20160323T072403Z
UID:6710-1461670200-1461675600@www.sanantoniopeace.center
SUMMARY:San Antonio & the Legislature: The Issues in the Interim
DESCRIPTION:The Texas Tribune is pleased to present a series of events focusing on the issues at play in the run-up to the 85th Legislature — and what they mean for one of the state’s largest and fastest-growing cities and its surrounding communities. \nJoin us in person or on our livestream for the first installment of this series: a conversation about school finance and school choice\, immigration\, health care\, spending and taxes\, and other consequential matters with state Reps. Diego Bernal\, Rick Galindo\, Ina Minjarez and Justin Rodriguez. Tribune CEO and Editor-in-Chief Evan Smith will moderate. \nDetails & RSVP \nThe “San Antonio & the Legislature” series is sponsored by Methodist Healthcare Ministries of South Texas\, USAA\, Zachry Group and Southwest Airlines\, the official airline of Texas Tribune Events. The series is hosted by The University of Texas at San Antonio and media support is provided by The Rivard Report. \n
URL:http://www.sanantoniopeace.center/event/san-antonio-the-legislature-the-issues-in-the-interim/
LOCATION:501 W. César E. Chávez Blvd.\, San Antonio\, TX\, 78207\, United States
CATEGORIES:Other
END:VEVENT
END:VCALENDAR