BEGIN:VCALENDAR
VERSION:2.0
PRODID:-//peaceCENTER - ECPv4.6.13//NONSGML v1.0//EN
CALSCALE:GREGORIAN
METHOD:PUBLISH
X-WR-CALNAME:peaceCENTER
X-ORIGINAL-URL:http://www.sanantoniopeace.center
X-WR-CALDESC:Events for peaceCENTER
BEGIN:VEVENT
DTSTART;TZID=America/Chicago:20161011T120000
DTEND;TZID=America/Chicago:20161011T200000
DTSTAMP:20260425T152149
CREATED:20160929T044329Z
LAST-MODIFIED:20160929T044329Z
UID:8821-1476187200-1476216000@www.sanantoniopeace.center
SUMMARY:San Antonio Stands with Standing Rock in Solidarity
DESCRIPTION: \nStand with us in solidarity at Travis park as we fight the attrocity thst Energy Transfer has brought onto us!\nPlease be sure to sign and share the petition telling Governor Abott that the state of Texas says no!\nhttp://www.thepetitionsite.com/takeaction/689/612/644/\n \nThis event is coordinated along side organizers in Austin\, El Paso\, Dallas and Houston too come together united! These protest will be conducted on the same day and time! \n
URL:http://www.sanantoniopeace.center/event/san-antonio-stands-with-standing-rock-in-solidarity/
LOCATION:211 E. Travis\, San Antonio\, TX\, 78205\, United States
CATEGORIES:Other
END:VEVENT
END:VCALENDAR