BEGIN:VCALENDAR
VERSION:2.0
PRODID:-//peaceCENTER - ECPv4.6.13//NONSGML v1.0//EN
CALSCALE:GREGORIAN
METHOD:PUBLISH
X-WR-CALNAME:peaceCENTER
X-ORIGINAL-URL:http://www.sanantoniopeace.center
X-WR-CALDESC:Events for peaceCENTER
BEGIN:VEVENT
DTSTART;TZID=America/Chicago:20141220T110000
DTEND;TZID=America/Chicago:20141220T130000
DTSTAMP:20260425T160634
CREATED:20141214T021155Z
LAST-MODIFIED:20141214T021155Z
UID:1667-1419073200-1419080400@www.sanantoniopeace.center
SUMMARY:San Antonio Social & Economic Justice March
DESCRIPTION: \nSan Antonio Social & Economic Justice March\nSaturday\, December 20\, 2014\nN. Swiss & Center Street\nSan Antonio\, Texas\n11am Staging Time\n12 Noon March\nAttire: Wear Black \n\nJustice for Marquis Jones\,Trayvon Martin\, Michael Brown\, Tamir Rice\, Eric Garner and Many Others \n‪#‎ICantBreathe‬ ‪#‎HandsUpDontShoot‬ ‪#‎AllLivesMatter‬ ‪#‎WeHearYou‬ ‪#‎ItEndsToday‬ ‪#‎ShutItDown‬ ‪#‎LivingWhileBlack‬ \n\n
URL:http://www.sanantoniopeace.center/event/san-antonio-social-economic-justice-march/
LOCATION:225 N. Swiss\, San Antonio\, TX\, 78202\, United States
END:VEVENT
END:VCALENDAR