BEGIN:VCALENDAR
VERSION:2.0
PRODID:-//peaceCENTER - ECPv4.6.13//NONSGML v1.0//EN
CALSCALE:GREGORIAN
METHOD:PUBLISH
X-WR-CALNAME:peaceCENTER
X-ORIGINAL-URL:http://www.sanantoniopeace.center
X-WR-CALDESC:Events for peaceCENTER
BEGIN:VEVENT
DTSTART;TZID=America/Chicago:20160920T180000
DTEND;TZID=America/Chicago:20160922T210000
DTSTAMP:20260425T163456
CREATED:20160811T151542Z
LAST-MODIFIED:20160811T151542Z
UID:8353-1474394400-1474578000@www.sanantoniopeace.center
SUMMARY:San Antonio Feminist Film Festival
DESCRIPTION: \nThe San Antonio Feminist Film Festival was created to center on feminist films and to focus on full equality. Our goal is to highlight feminist film\, engage with local leaders and create change in our community. \nJoin us September 20th through September 22nd for our second annual festival\, and check out the films below! \nNight 1 – September 20th. Doors open at 6pm. Food and wine are included. $30 \nEqual Means Equal: San Antonio Premier of the documentary that offers an unflinching look at how women are treated in the United States today and reveals the inadequacy of present laws that claim to protect women. View trailer. \nMustang: A story that could have been ripped from the headlines. Set in a Northern Turkey village\, five teenaged sisters’ lives are changed when their parents essentially imprison them to be married off. View Trailer. \nYoung Feminists Night — September 21st $15 Doors open at 6pm.\n \n\nThe Hunting Ground: We welcome the young and young-at-heart feminists for this night that focuses on our millennials\, with the film “The Hunting Ground” addressing campus sexual assault. View Trailer \nNight 3: September 22nd $30.00 Doors open at 6pm\n \n\nMaya Angelou – Still I Rise: At the time of Maya Angelou’s death\, she was participating in this\, the first feature documentary about her life for the PBS American Masters series. View trailer  \nGrandma. A misanthropic poet (Lily Tomlin) takes her granddaughter (Julia Garner) across Los Angeles in search of the money she needs to terminate her unwanted pregnancy. View Trailer \n  \n\n\n
URL:http://www.sanantoniopeace.center/event/san-antonio-feminist-film-festival/
LOCATION:618 NW Loop 410\, San Antonio\, TX\, 78216\, United States
CATEGORIES:Other
ORGANIZER;CN="San%20Antonio%20Feminist%20Film%20Festival":MAILTO:sanantoniofeministfilmfestival@gmail.com
END:VEVENT
END:VCALENDAR