BEGIN:VCALENDAR
VERSION:2.0
PRODID:-//peaceCENTER - ECPv4.6.13//NONSGML v1.0//EN
CALSCALE:GREGORIAN
METHOD:PUBLISH
X-WR-CALNAME:peaceCENTER
X-ORIGINAL-URL:http://www.sanantoniopeace.center
X-WR-CALDESC:Events for peaceCENTER
BEGIN:VEVENT
DTSTART;TZID=America/Chicago:20151118T173000
DTEND;TZID=America/Chicago:20151118T183000
DTSTAMP:20260425T112627
CREATED:20151029T012935Z
LAST-MODIFIED:20151029T012935Z
UID:4725-1447867800-1447871400@www.sanantoniopeace.center
SUMMARY:San Antonio Coalition Against Genocide Monthly Meeting
DESCRIPTION:Monthly Coalition Meeting. Planning for 2015 Walk Against Genocide. University Presbyterian Church\, 300 Bushnell\, San Antonio\, TX 78212. Corner of Shook and Bushnell. Meet in the Community Education Building. \n
URL:http://www.sanantoniopeace.center/event/san-antonio-coalition-against-genocide-monthly-meeting/
LOCATION:300 Bushnell\, San Antonio\, TX\, 78212\, United States
END:VEVENT
END:VCALENDAR