BEGIN:VCALENDAR
VERSION:2.0
PRODID:-//peaceCENTER - ECPv4.6.13//NONSGML v1.0//EN
CALSCALE:GREGORIAN
METHOD:PUBLISH
X-WR-CALNAME:peaceCENTER
X-ORIGINAL-URL:http://www.sanantoniopeace.center
X-WR-CALDESC:Events for peaceCENTER
BEGIN:VEVENT
DTSTART;TZID=America/Chicago:20150108T190000
DTEND;TZID=America/Chicago:20150108T210000
DTSTAMP:20260425T190755
CREATED:20141224T054605Z
LAST-MODIFIED:20141224T054605Z
UID:1812-1420743600-1420750800@www.sanantoniopeace.center
SUMMARY:San Antonio Audubon Society January Meeting
DESCRIPTION:Danté Fenolio\, Ph.D.\, Manager of Conservation and Research at the San Antonio Zoo will present a program titled “Amphibian Conservation at the San Antonio Zoo.” Non-members are welcome. \n
URL:http://www.sanantoniopeace.center/event/san-antonio-audubon-society-january-meeting/
LOCATION:915 E. Mulberry Ave.   \, San Antonio\, TX\, 78212\, United States
END:VEVENT
END:VCALENDAR