BEGIN:VCALENDAR
VERSION:2.0
PRODID:-//peaceCENTER - ECPv4.6.13//NONSGML v1.0//EN
CALSCALE:GREGORIAN
METHOD:PUBLISH
X-WR-CALNAME:peaceCENTER
X-ORIGINAL-URL:http://www.sanantoniopeace.center
X-WR-CALDESC:Events for peaceCENTER
BEGIN:VEVENT
DTSTART;TZID=America/Chicago:20160126T190000
DTEND;TZID=America/Chicago:20160126T203000
DTSTAMP:20260425T104913
CREATED:20160119T145557Z
LAST-MODIFIED:20160119T145557Z
UID:6074-1453834800-1453840200@www.sanantoniopeace.center
SUMMARY:San Antonio Against Slavery monthly meeting
DESCRIPTION:Please join San Antonio Against Slavery for our January meeting.  It will be held on January 26\, 2016\, from 7-8:30pm at Wayland Baptist University\, Main Campus\, 11550 IH 35 N.\, Room 102.  this program is free and open to the public.\n\nWe will be screening the documentary:    THE CANTINERA/Cantinera Girl.\n\nThe film is a story of a woman who was forced by her mother to work in a Cantinera\, starting at age 13\, and is still working there today.\n\nOur November speaker\, Dottie Laster\, is featured in this film.  She will join us again at this meeting for Q & A after the showing.\n\nInfo@SAAgainstSlavery.com\n
URL:http://www.sanantoniopeace.center/event/san-antonio-against-slavery-monthly-meeting/
LOCATION:11550 IH 35 N.\,\, San Antonio\, TX\, 78233\, United States
END:VEVENT
END:VCALENDAR