BEGIN:VCALENDAR
VERSION:2.0
PRODID:-//peaceCENTER - ECPv4.6.13//NONSGML v1.0//EN
CALSCALE:GREGORIAN
METHOD:PUBLISH
X-WR-CALNAME:peaceCENTER
X-ORIGINAL-URL:http://www.sanantoniopeace.center
X-WR-CALDESC:Events for peaceCENTER
BEGIN:VEVENT
DTSTART;TZID=America/Chicago:20150302T190000
DTEND;TZID=America/Chicago:20150302T210000
DTSTAMP:20260425T105932
CREATED:20150212T050144Z
LAST-MODIFIED:20150212T050144Z
UID:2405-1425322800-1425330000@www.sanantoniopeace.center
SUMMARY:San Antonians for Peacebuilding Workshop
DESCRIPTION:San Antonio Area People of Goodwill – Would you like to be part of a positive\, powerful vision for cultural change? \nSan Antonians for Peacebuilding will be hosting a workshop on March 2nd – at 7pm at the Madison Square Presbyterian Church at 319 Camden Street with Peace Alliance National Field Director Dan Kahn – to inform\, inspire\, and empower us about The Peace Alliance’s vision and strategy for peacebuilding progress\, and aim to create a new San Antonio Peace Alliance Action Team. \nMaybe you’ve heard about Peace Alliance Action Teams – The new phenomenon of citizen empowerment\, creating political will for breakthroughs in peacebuilding?  \nAt a time of great challenge and opportunity around the planet\, it’s time for a peacebuilding constituency to build political will that will help take our communities\, nation\, and world to a new level – reducing incarceration\, reducing the need for war\, enhancing our ability to peacefully coexist. We are committed to nourishing\, expanding\, and empowering that constituency. \nHave you raised your voice for peace\, but yearned to be part of a more unified\, powerful chorus? \nPeace Alliance Action Teams meet together every month for a powerful national conference call\, take our monthly action together\, and work with Members of Congress and the media to create new champions for peace. \nHelp build a world where: \n    Communities are safe\, loving and nurturing for all our kids.\n    We invest in programs that transform conflict\, before it erupts into violence.\n    We smartly intervene when crime or violence does occur\, looking to restorative & rehabilitative models.\n    Millions of peacebuilders are at work in conflict hotspots around the world.\n    We empower ourselves and our families with the interpersonal skills to live a more peaceful life.\n    Our policies and laws match our peaceful values. \nJoin us and be the change you want to see in the world. \n
URL:http://www.sanantoniopeace.center/event/san-antonians-for-peacebuilding-workshop/
LOCATION:319 Camden St.\, San Antonio\, TX\, United States
END:VEVENT
END:VCALENDAR