BEGIN:VCALENDAR
VERSION:2.0
PRODID:-//peaceCENTER - ECPv4.6.13//NONSGML v1.0//EN
CALSCALE:GREGORIAN
METHOD:PUBLISH
X-WR-CALNAME:peaceCENTER
X-ORIGINAL-URL:http://www.sanantoniopeace.center
X-WR-CALDESC:Events for peaceCENTER
BEGIN:VEVENT
DTSTART;TZID=America/Chicago:20150202T190000
DTEND;TZID=America/Chicago:20150202T210000
DTSTAMP:20260425T134300
CREATED:20150128T032119Z
LAST-MODIFIED:20150128T032119Z
UID:2207-1422903600-1422910800@www.sanantoniopeace.center
SUMMARY:San Antonians for Peacebuilding: Changing Relationship with Cuba Presentation
DESCRIPTION:The next San Antonians for Peacebuilding meeting will be Mon.\, Feb. 2\, 7:00 PM\, Madison Square Presbyterian Church\,\n(Fellowship Building\, 2nd Floor)\, located at 319 Camden Street at Lexington Ave.\, Downtown.   \nOur speaker will be Ruben Armendariz\, Presbytery Consultant for Church Development and Acting Head of Staff\, Mission Presbytery\, San Antonio. Ruben will speak on the changing relationship between the United States and Cuba. Ruben recently returned from a trip to Cuba on behalf of the Presbyterian Church (USA) seeking to build bridges of peace and friendship between people of both nations. \nWe will also discuss the initiative by San Antonio City Councilman Alan E. Warrick\, II\, District 2\, to help victims of domestic violence\, child abuse\, and related crimes. \n
URL:http://www.sanantoniopeace.center/event/san-antonians-for-peacebuilding-changing-relationship-with-cuba-presentation/
LOCATION:319 Camden St.\, San Antonio\, 78215\, United States
END:VEVENT
END:VCALENDAR