BEGIN:VCALENDAR
VERSION:2.0
PRODID:-//peaceCENTER - ECPv4.6.13//NONSGML v1.0//EN
CALSCALE:GREGORIAN
METHOD:PUBLISH
X-WR-CALNAME:peaceCENTER
X-ORIGINAL-URL:http://www.sanantoniopeace.center
X-WR-CALDESC:Events for peaceCENTER
BEGIN:VEVENT
DTSTART;TZID=America/Chicago:20160701T193000
DTEND;TZID=America/Chicago:20160701T203000
DTSTAMP:20260425T202305
CREATED:20160627T174058Z
LAST-MODIFIED:20160627T174058Z
UID:7598-1467401400-1467405000@www.sanantoniopeace.center
SUMMARY:San Anto Solidarity With Oaxaca!
DESCRIPTION: \nSolidarity Action in support of Teachers and community activists struggling against the brutal neoliberal Mexican government who has massacred and dissappeared innocent civilians in an attempt to privatize a national education system. \nGather at 7:30pm at Alamo Plaza; March to the Mexican Consulate to protest. \n#Nochixtlan\n#todossomosOaxaca\n#oaxacaresiste\n#ayotzinapa\n#cnte \n
URL:http://www.sanantoniopeace.center/event/san-anto-solidarity-with-oaxaca/
LOCATION:300 Alamo Plaza\, San Antonio\, TX\, 78205\, United States
CATEGORIES:Other
END:VEVENT
END:VCALENDAR