BEGIN:VCALENDAR
VERSION:2.0
PRODID:-//peaceCENTER - ECPv4.6.13//NONSGML v1.0//EN
CALSCALE:GREGORIAN
METHOD:PUBLISH
X-WR-CALNAME:peaceCENTER
X-ORIGINAL-URL:http://www.sanantoniopeace.center
X-WR-CALDESC:Events for peaceCENTER
BEGIN:VEVENT
DTSTART;TZID=America/Chicago:20141218T180000
DTEND;TZID=America/Chicago:20141218T200000
DTSTAMP:20260425T160455
CREATED:20141212T133041Z
LAST-MODIFIED:20141212T133041Z
UID:1658-1418925600-1418932800@www.sanantoniopeace.center
SUMMARY:San Anto Social Justice Happy Hour
DESCRIPTION: \n  \nMonthly social justice happy hour where lefty SA activists\, organizers\, lawyers\, artists\, and all other allies socialize and commune. All are welcome – come join us! \nHappy hour specials on drinks/snacks run from 4:30 to 7. After 6\, you can usually find free metered parking on Cesar Chavez. \n
URL:http://www.sanantoniopeace.center/event/san-anto-social-justice-happy-hour/
LOCATION:739 E. Cesar E. Chavez Blvd.\, San Antonio\, TX\, 78205\, United States
END:VEVENT
END:VCALENDAR