BEGIN:VCALENDAR
VERSION:2.0
PRODID:-//peaceCENTER - ECPv4.6.13//NONSGML v1.0//EN
CALSCALE:GREGORIAN
METHOD:PUBLISH
X-WR-CALNAME:peaceCENTER
X-ORIGINAL-URL:http://www.sanantoniopeace.center
X-WR-CALDESC:Events for peaceCENTER
BEGIN:VEVENT
DTSTART;TZID=America/Chicago:20160929T190000
DTEND;TZID=America/Chicago:20160929T203000
DTSTAMP:20260425T181415
CREATED:20160919T225513Z
LAST-MODIFIED:20160919T225513Z
UID:8772-1475175600-1475181000@www.sanantoniopeace.center
SUMMARY:Sacred Conversations on Incarceration
DESCRIPTION: \n
URL:http://www.sanantoniopeace.center/event/sacred-conversations-on-incarceration/
LOCATION:8700 Fourwinds Dr\, San Antonio\, TX\, 78239\, United States
CATEGORIES:Other
END:VEVENT
END:VCALENDAR