BEGIN:VCALENDAR
VERSION:2.0
PRODID:-//peaceCENTER - ECPv4.6.13//NONSGML v1.0//EN
CALSCALE:GREGORIAN
METHOD:PUBLISH
X-WR-CALNAME:peaceCENTER
X-ORIGINAL-URL:http://www.sanantoniopeace.center
X-WR-CALDESC:Events for peaceCENTER
BEGIN:VEVENT
DTSTART;TZID=America/Chicago:20160909T130000
DTEND;TZID=America/Chicago:20160909T160000
DTSTAMP:20260425T181220
CREATED:20160819T160519Z
LAST-MODIFIED:20160819T160519Z
UID:8474-1473426000-1473436800@www.sanantoniopeace.center
SUMMARY:Saber es Poder: Get Out the Vote
DESCRIPTION: \nCommunity Leaders and OLLU Student Leaders will Speak on: \nDecisions about voting\nWhy your vote counts\nTrends/stats\nVoting Demographics\nVoting Laws \n
URL:http://www.sanantoniopeace.center/event/saber-es-poder-get-out-the-vote/
LOCATION:411 S.W. 24th St.\, San Antonio\, TX\, 78207\, United States
CATEGORIES:Other
ORGANIZER;CN="Worden%20School%20of%20Social%20Work":MAILTO:WordenConferences@lake.ollusa.edu
END:VEVENT
END:VCALENDAR