BEGIN:VCALENDAR
VERSION:2.0
PRODID:-//peaceCENTER - ECPv4.6.13//NONSGML v1.0//EN
CALSCALE:GREGORIAN
METHOD:PUBLISH
X-WR-CALNAME:peaceCENTER
X-ORIGINAL-URL:http://www.sanantoniopeace.center
X-WR-CALDESC:Events for peaceCENTER
BEGIN:VEVENT
DTSTART;TZID=America/Chicago:20160329T170000
DTEND;TZID=America/Chicago:20160329T190000
DTSTAMP:20260425T130804
CREATED:20160316T212020Z
LAST-MODIFIED:20160316T212020Z
UID:6668-1459270800-1459278000@www.sanantoniopeace.center
SUMMARY:SA2020 Talks: Diversity and Inclusion in the Arts
DESCRIPTION:SA2020\, in partnership with City of San Antonio Diversity and Inclusion Office\, Contemporary Art Month (CAM)\, and Guadalupe Cultural Arts Center\, is proud to present SA2020 Talks… Diversity and Inclusion in the Arts. \nPlease join us for this panel discussion on March 29th. With our fantastic panelists and an audience Q&A\, we hope to open a dialogue about inclusion in arts in our community and foster a solutions-oriented approach to inclusivity. Tickets are free\, but you’ll need to RSVP here: http://sa2020talks.eventbrite.com/ \nPanelists include Jon Hinojosa of SAY Sí\, Kiran Bains of City of San Antonio Diversity and Inclusion Office\, Cruz Ortiz of SNAKE HAWK PRESS\, and Veronique Le Melle of Artpace San Antonio. \n5:00 p.m. Doors open\, cash bar opens\n5:22 p.m. Welcome and opening statements\n6:22 p.m. Audience questions and solutions \n
URL:http://www.sanantoniopeace.center/event/sa2020-talks-diversity-and-inclusion-in-the-arts/
LOCATION:800 W. Ashby\, San Antonio\, TX\, 78212\, United States
CATEGORIES:Other
END:VEVENT
END:VCALENDAR