BEGIN:VCALENDAR
VERSION:2.0
PRODID:-//peaceCENTER - ECPv4.6.13//NONSGML v1.0//EN
CALSCALE:GREGORIAN
METHOD:PUBLISH
X-WR-CALNAME:peaceCENTER
X-ORIGINAL-URL:http://www.sanantoniopeace.center
X-WR-CALDESC:Events for peaceCENTER
BEGIN:VEVENT
DTSTART;TZID=America/Chicago:20171207T160000
DTEND;TZID=America/Chicago:20171207T183000
DTSTAMP:20260425T030604
CREATED:20171117T163549Z
LAST-MODIFIED:20171117T163549Z
UID:11477-1512662400-1512671400@www.sanantoniopeace.center
SUMMARY:SA Climate Ready: Planning for All\, Now and Tomorrow
DESCRIPTION:\nJoin us and share your thoughts as we kickoff of San Antonio’s first Climate Action and Adaptation Plan and hear from Dr. Katharine Hayhoe\, an internationally-recognized climate scientist. The event is free and open to the public. Registration is requested. \n
URL:http://www.sanantoniopeace.center/event/sa-climate-ready-planning-for-all-now-and-tomorrow/
LOCATION:501 W. César E. Chávez Blvd.\, San Antonio\, TX\, 78205\, United States
CATEGORIES:Other
END:VEVENT
END:VCALENDAR