BEGIN:VCALENDAR
VERSION:2.0
PRODID:-//peaceCENTER - ECPv4.6.13//NONSGML v1.0//EN
CALSCALE:GREGORIAN
METHOD:PUBLISH
X-WR-CALNAME:peaceCENTER
X-ORIGINAL-URL:http://www.sanantoniopeace.center
X-WR-CALDESC:Events for peaceCENTER
BEGIN:VEVENT
DTSTART;TZID=America/Chicago:20160803T170000
DTEND;TZID=America/Chicago:20160803T200000
DTSTAMP:20260425T202655
CREATED:20160726T025413Z
LAST-MODIFIED:20160726T025413Z
UID:8230-1470243600-1470254400@www.sanantoniopeace.center
SUMMARY:SA Citizens Filibuster: HANDS OFF Our PARK!
DESCRIPTION:Join us for a Rally and Citizens’ Filibuster at City Hall on Wednesday\, August 3rd at 5pm and let your voice be heard! We will start with a rally outside City Hall at 5pm\, and then will speak out and “filibuster” at Citizens to Be Heard at 6 pm. All are welcome to speak!\n \n For those interested in speaking\, you must sign up in advance. Contact us if you need help with the process at 210-409-9122.\n \nLet us remind Roberto Treviño and the other members of City Council that we elected them to represent us and that we are tired of their reckless giveaways! They have repeatedly demonstrated that the needs and wants of big business are above those of the San Antonio community–from building a hotel in Hemisfair Park\, to proposing major changes to Brackenridge Park\, to giving away $7 million of taxpayer money to a hotel project that will be developed by Chris Hill/Crockett Urban Ventures and will be operated by White Lodging. \nJust a reminder: White Lodging is not good for our SA Antonio community! The founder of White Lodging is a top financial contributor to Indiana Governor Mike Pence\, who has a long history of being opposed to LGBTQ rights dating back to 2000! In 2015\, Governor Pence signed the Religious Freedom Restoration Act that gave legal protections to business owners who did not want to serve same-sex couples. \nNow\, Treviño and the city leaders are giving our Hemisfair Park away. Treviño and the city are planning to build a hotel in Hemisfair Park! A hotel in a public park? Let’s be honest: a hotel in our public park does not improve our quality of life and is not for San Antonians. \nLet’s RAISE OUR VOICES at CITIZENS TO BE HEARD! Join Us! OUR tax dollars. OUR park. \nPlease share widely! For those interested in speaking\, you must sign up in advance. Contact us if you need help with the process at 210-409-9122. \nSi se puede! \n
URL:http://www.sanantoniopeace.center/event/sa-citizens-filibuster-hands-off-our-park/
LOCATION:100 Military Plaza\, San Antonio\, TX\, United States
CATEGORIES:Other
END:VEVENT
END:VCALENDAR