BEGIN:VCALENDAR
VERSION:2.0
PRODID:-//peaceCENTER - ECPv4.6.13//NONSGML v1.0//EN
CALSCALE:GREGORIAN
METHOD:PUBLISH
X-WR-CALNAME:peaceCENTER
X-ORIGINAL-URL:http://www.sanantoniopeace.center
X-WR-CALDESC:Events for peaceCENTER
BEGIN:VEVENT
DTSTART;TZID=America/Chicago:20161113T150000
DTEND;TZID=America/Chicago:20161113T170000
DTSTAMP:20260425T153837
CREATED:20161110T134359Z
LAST-MODIFIED:20161110T134359Z
UID:9034-1479049200-1479056400@www.sanantoniopeace.center
SUMMARY:Ruth Lofgren's 100th Birthday Party
DESCRIPTION: \nRuth Lofgren\, San Antonio’s first Peace Laureate\, will be celebrating her 100th birthday\, and you are invited to attend! Ruth will share with us what inspires her\, and we look to our Future from Individual\, Community and Earth Perspectives. We will celebrate Life! \nThis event is free\, but if you like\, in lieu of gifts\, Ruth asks Donations be directed to Mitchell Lake Audubon Society:\nChecks to: c/o Celebrate Ruth Lofgren\,10750 Pleasanton Road\, San Antonio\, TX 78221\nOr Online at http://mitchelllake.audubon.org \n
URL:http://www.sanantoniopeace.center/event/ruth-lofgrens-100th-birthday-party/
LOCATION:4503 Broadway\, San Antonio\, TX\, 78209\, United States
CATEGORIES:peaceCENTER
ORGANIZER;CN="peaceCENTER":MAILTO:info@sacompassionnet.org
END:VEVENT
END:VCALENDAR