BEGIN:VCALENDAR
VERSION:2.0
PRODID:-//peaceCENTER - ECPv4.6.13//NONSGML v1.0//EN
CALSCALE:GREGORIAN
METHOD:PUBLISH
X-WR-CALNAME:peaceCENTER
X-ORIGINAL-URL:http://www.sanantoniopeace.center
X-WR-CALDESC:Events for peaceCENTER
BEGIN:VEVENT
DTSTART;TZID=America/Chicago:20160402T160000
DTEND;TZID=America/Chicago:20160402T180000
DTSTAMP:20260425T121711
CREATED:20160320T202940Z
LAST-MODIFIED:20160320T202940Z
UID:6692-1459612800-1459620000@www.sanantoniopeace.center
SUMMARY:Rev. Dr. Naim Ateek\, founder of Sabeel @ Trinity U.
DESCRIPTION:Saturday April 2\, 4pm-6pm\, Rev. Dr. Naim Ateek\, founder of Sabeel\, will speak on the  situation in Palestine/Israel. Trinity University\, Coates University Center\, Room 237  (Waxahachie Room).  \nSabeel is an ecumenical grassroots liberation theology movement among Palestinian Christians. Inspired by the life and teaching of Jesus Christ\, this liberation theology seeks to deepen the faith of Palestinian Christians\, to promote unity among them and lead them to act for justice and peace. The Rev. Dr. Naim Ateek is a Palestinian priest in the Anglican Church and has been an active leader in the shaping of the Palestinian liberation theology. He was the first to articulate a Palestinian theology of liberation in his book\, Justice\, and only Justice\, a Palestinian Theology of Liberation\, published in 1989.   \n
URL:http://www.sanantoniopeace.center/event/rev-dr-naim-ateek-founder-of-sabeel-trinity-u/
LOCATION:One Trinity Place\, San Antonio\, TX\, 78212\, United States
END:VEVENT
END:VCALENDAR