BEGIN:VCALENDAR
VERSION:2.0
PRODID:-//peaceCENTER - ECPv4.6.13//NONSGML v1.0//EN
CALSCALE:GREGORIAN
METHOD:PUBLISH
X-WR-CALNAME:peaceCENTER
X-ORIGINAL-URL:http://www.sanantoniopeace.center
X-WR-CALDESC:Events for peaceCENTER
BEGIN:VEVENT
DTSTART;TZID=America/Chicago:20161113T180000
DTEND;TZID=America/Chicago:20161113T193000
DTSTAMP:20260425T141530
CREATED:20161110T154759Z
LAST-MODIFIED:20161110T154759Z
UID:9048-1479060000-1479065400@www.sanantoniopeace.center
SUMMARY:Requiem for Peace
DESCRIPTION:In observance of Veterans’ Day we offer our annual requiem on Remembrance Sunday. This is sung in the context of a Eucharist and you are warmly invited to take part with us\, remember loved ones\, and pray for peace. Music of Goss\, Stainer\, Purcell\, Willan – A time to be quiet and pray for the world and our neighbors. For more information\, contact Russell Jackson\, Music Director & Organist\, St Luke’s Episcopal Church\, russellj@stlukes-sa.net.  \n
URL:http://www.sanantoniopeace.center/event/requiem-for-peace/
LOCATION:11 St. Luke's Lane\, San Antonio\, TX\, 78209\, United States
CATEGORIES:Other
ORGANIZER;CN="St.%20Lukes%20Episcopal%20Church":MAILTO:Russell Jackson, Music Director &amp; Organist, St Luke’s Episcopal Church, russellj@stlukes-sa.net. 
END:VEVENT
END:VCALENDAR