BEGIN:VCALENDAR
VERSION:2.0
PRODID:-//peaceCENTER - ECPv4.6.13//NONSGML v1.0//EN
CALSCALE:GREGORIAN
METHOD:PUBLISH
X-WR-CALNAME:peaceCENTER
X-ORIGINAL-URL:http://www.sanantoniopeace.center
X-WR-CALDESC:Events for peaceCENTER
BEGIN:VEVENT
DTSTART;TZID=America/Chicago:20160629T090000
DTEND;TZID=America/Chicago:20160629T100000
DTSTAMP:20260425T214529
CREATED:20160626T004145Z
LAST-MODIFIED:20160626T004145Z
UID:7575-1467190800-1467194400@www.sanantoniopeace.center
SUMMARY:Rep. Lloyd Doggett talk about a National Day of Action on Gun Violence
DESCRIPTION:Please join supporters of Moms Demand Action for Gun Sense in America as we hear US Representative Lloyd Doggett talk about a National Day of Action on gun violence and his experience sitting-in in the US House of Representatives last week. RSVP here: http://act.everytown.org/event/moms-demand-action-event/3259/signup/ \nPlease wear orange & bring friends! \n
URL:http://www.sanantoniopeace.center/event/rep-lloyd-doggett-talk-about-a-national-day-of-action-on-gun-violence/
LOCATION:1443 S. St. Mary's\, San Antonio\, TX\, 78210\, United States
CATEGORIES:Other
END:VEVENT
END:VCALENDAR