BEGIN:VCALENDAR
VERSION:2.0
PRODID:-//peaceCENTER - ECPv4.6.13//NONSGML v1.0//EN
CALSCALE:GREGORIAN
METHOD:PUBLISH
X-WR-CALNAME:peaceCENTER
X-ORIGINAL-URL:http://www.sanantoniopeace.center
X-WR-CALDESC:Events for peaceCENTER
BEGIN:VEVENT
DTSTART;TZID=America/Chicago:20150410T183000
DTEND;TZID=America/Chicago:20150410T210000
DTSTAMP:20260425T131105
CREATED:20150331T140353Z
LAST-MODIFIED:20150331T140353Z
UID:2738-1428690600-1428699600@www.sanantoniopeace.center
SUMMARY:Religious Refusals in Texas Workshop: People of Faith Learn to Speak Out
DESCRIPTION: \nOrder FREE tickets via Eventbrite \nAs you’ve likely seen on local news and social media\, discriminatory bills are currently being considered by the Texas Legislature. These bills\, commonly nicknamed “religious refusals” are proposed amendments to the Religious Freedom Restoration Act (RFRA) and\, if passed\, would be highly discriminatory toward our LGBTQ friends throughout the state of Texas. \nOrganized by The National LGBTQ Task Force\, Reconciling Ministries Network is working with Lutherans\, Presbyterians\, Episcopalians\, and the United Church of Christ to help educate Texans about the potential harm represented in these religious refusal bills and offer opportunities to raise our collective voices of faith to prevent their adoption. We hope San Antonio area friends will consider attending this training event and helping Texans of faith speak up for equality and justice for LGBTQ citizens and neighbors. \nWHAT\nHelp prevent religious refusals from becoming law in Texas \nWHEN\nFriday\, April 10th\, 6:30pm to 9:00pm \nCONTACT\nLaura Young – laura@rmnetwork.org – 312-448-5309 \n
URL:http://www.sanantoniopeace.center/event/religious-refusals-in-texas-workshop-people-of-faith-learn-to-speak-out/
LOCATION:230 E Travis Street\, San Antonio\, TX\, 78205\, United States
ORGANIZER;CN="Reconciling%20Ministries%20Network":MAILTO:laura@rmnetwork.org
END:VEVENT
END:VCALENDAR