BEGIN:VCALENDAR
VERSION:2.0
PRODID:-//peaceCENTER - ECPv4.6.13//NONSGML v1.0//EN
CALSCALE:GREGORIAN
METHOD:PUBLISH
X-WR-CALNAME:peaceCENTER
X-ORIGINAL-URL:http://www.sanantoniopeace.center
X-WR-CALDESC:Events for peaceCENTER
BEGIN:VEVENT
DTSTART;TZID=America/Chicago:20180410T190000
DTEND;TZID=America/Chicago:20180410T210000
DTSTAMP:20260424T195537
CREATED:20171220T025807Z
LAST-MODIFIED:20171220T025807Z
UID:11636-1523386800-1523394000@www.sanantoniopeace.center
SUMMARY:Religion\, Race\, and the Civil Rights Movement
DESCRIPTION: with Lauren Turek \nHow did ideas about race and religion intertwine during the U.S. civil rights movement? In this course\, we will reach back into history to look at how religious ideas helped to create modern notions of race. We will trace how Americans incorporated these notions into the legal system of slavery. We will also consider how African Americans drew on beliefs about freedom and dignity rooted in religious traditions to resist their subjugation. We will analyze historical documents\, music and film to reveal how religious principles informed non-violent resistance tactics. And we will consider the role of not only Christian churches but also Jewish and Islamic influences on the movement. \nLauren Turek\, Assistant Professor of History at Trinity University in San Antonio\, teaches courses on modern U.S. history\, foreign relations and public history. She earned her Ph.D. in history from the University of Virginia. Turek’s articles on religion in American politics and foreign policy have appeared in Diplomatic History and the Journal of American Studies. Her book project\, To Bring the Good News to All Nations: Evangelicals\, Human Rights\, and U.S. Foreign Relations\, is soon to be published. \n
URL:http://www.sanantoniopeace.center/event/religion-race-and-the-civil-rights-movement/
LOCATION:300 Bushnell\, San Antonio\, TX\, 78212\, United States
CATEGORIES:Other
END:VEVENT
END:VCALENDAR