BEGIN:VCALENDAR
VERSION:2.0
PRODID:-//peaceCENTER - ECPv4.6.13//NONSGML v1.0//EN
CALSCALE:GREGORIAN
METHOD:PUBLISH
X-WR-CALNAME:peaceCENTER
X-ORIGINAL-URL:http://www.sanantoniopeace.center
X-WR-CALDESC:Events for peaceCENTER
BEGIN:VEVENT
DTSTART;TZID=America/Chicago:20161006T174500
DTEND;TZID=America/Chicago:20161006T190000
DTSTAMP:20260425T175020
CREATED:20160914T100845Z
LAST-MODIFIED:20160914T100845Z
UID:8691-1475775900-1475780400@www.sanantoniopeace.center
SUMMARY:Red Mass
DESCRIPTION: \nThe St. Mary’s School of Law and Catholic Lawyers’ Guild of San Antonio invite members of the legal community from all faiths to the 64th Annual Red Mass at 6 p.m. on Thursday\, Oct. 6 at San Fernando Cathedral. \nThe Most Rev. Gustavo García-Siller\, M.Sp.S.\, Archbishop of San Antonio\, will be the principal celebrant and homilist. The Hon. Xavier Rodriguez\, United States District Court for the Western District of Texas\, will offer welcome remarks. \nSchedule of Events\n5:45 p.m.\, Processional\n6 p.m.\, Red Mass begins \nThe custom of a special mass for the judicial community arose in France\, England and Italy in the early 13th century to mark the opening of the courts of law and to ask guidance for all who seek justice. It became known as Red Mass from the color of the priests’ vestments and judges’ robes. \nThis tradition continues today in San Antonio as a time for members of the legal community of all faiths to come together for the cause of justice. \nFor more information\, contact Sister Grace Walle\, F.M.I.\, D.Min\, St. Mary’s School of Law campus minister at 210-436-3063 or gwalle@stmarytx.edu. \n
URL:http://www.sanantoniopeace.center/event/red-mass/
LOCATION:115 E. Main Plaza\, San Antonio\, TX\, 78205\, United States
CATEGORIES:Other
ORGANIZER;CN="School%20of%20Law%2C%20St.%20Mary%27s%20University":MAILTO:gwalle@stmarytx.edu
END:VEVENT
END:VCALENDAR