BEGIN:VCALENDAR
VERSION:2.0
PRODID:-//peaceCENTER - ECPv4.6.13//NONSGML v1.0//EN
CALSCALE:GREGORIAN
METHOD:PUBLISH
X-WR-CALNAME:peaceCENTER
X-ORIGINAL-URL:http://www.sanantoniopeace.center
X-WR-CALDESC:Events for peaceCENTER
BEGIN:VEVENT
DTSTART;TZID=America/Chicago:20150211T102000
DTEND;TZID=America/Chicago:20150211T110000
DTSTAMP:20260425T141232
CREATED:20150210T185348Z
LAST-MODIFIED:20150210T202953Z
UID:2364-1423650000-1423652400@www.sanantoniopeace.center
SUMMARY:Rally in support of Sonia\, her husband and two children who are in detention
DESCRIPTION:Rally in support of Sonia\, her husband and two children who are in detention \nThis family fled Mexico on November 2nd after six-months of protesting over the kidnapping of their 22 year old son—a U.S. citizen—by the Mexican military. They came to the U.S. after the Mexican military raided their home in Matamoros. After two months of detention\, ICE has set a $7\,500 bond on the mother and two young children. The U.S. Government should release this family and actively assist in finding their U.S. citizen son’s kidnapping. See petition & video: https://actionnetwork.org/petitions/free-sonia-us-citizen-son-kidnapped-by-mexican-military \nWhat you can do: Stand in solidarity with other community leaders to ask ICE to immediately release the family and invite others to come with you! \nWhen: Wednesday\, February 11th @ 10:20 am\nWhere: ICE Field Office: 1777 NE Loop 410\, San Antonio\, TX\, 78216 \nFor more info: Mohammad Abdollahi\, (210) 544-7811\, mo@raicestexas.org \n
URL:http://www.sanantoniopeace.center/event/rally-in-support-of-sonia-her-husband-and-two-children-who-are-in-detention/
LOCATION:1777 NE Loop 410\,\, San Antonio\, TX\, 78217\, United States
END:VEVENT
END:VCALENDAR